BEGIN:VCALENDAR
VERSION:2.0
PRODID:-//Fairfax Circle Church - ECPv6.15.18//NONSGML v1.0//EN
CALSCALE:GREGORIAN
METHOD:PUBLISH
X-ORIGINAL-URL:https://www.fairfaxcirclechurch.org
X-WR-CALDESC:Events for Fairfax Circle Church
REFRESH-INTERVAL;VALUE=DURATION:PT1H
X-Robots-Tag:noindex
X-PUBLISHED-TTL:PT1H
BEGIN:VTIMEZONE
TZID:America/New_York
BEGIN:DAYLIGHT
TZOFFSETFROM:-0500
TZOFFSETTO:-0400
TZNAME:EDT
DTSTART:20200308T070000
END:DAYLIGHT
BEGIN:STANDARD
TZOFFSETFROM:-0400
TZOFFSETTO:-0500
TZNAME:EST
DTSTART:20201101T060000
END:STANDARD
BEGIN:DAYLIGHT
TZOFFSETFROM:-0500
TZOFFSETTO:-0400
TZNAME:EDT
DTSTART:20210314T070000
END:DAYLIGHT
BEGIN:STANDARD
TZOFFSETFROM:-0400
TZOFFSETTO:-0500
TZNAME:EST
DTSTART:20211107T060000
END:STANDARD
BEGIN:DAYLIGHT
TZOFFSETFROM:-0500
TZOFFSETTO:-0400
TZNAME:EDT
DTSTART:20220313T070000
END:DAYLIGHT
BEGIN:STANDARD
TZOFFSETFROM:-0400
TZOFFSETTO:-0500
TZNAME:EST
DTSTART:20221106T060000
END:STANDARD
BEGIN:DAYLIGHT
TZOFFSETFROM:-0500
TZOFFSETTO:-0400
TZNAME:EDT
DTSTART:20230312T070000
END:DAYLIGHT
BEGIN:STANDARD
TZOFFSETFROM:-0400
TZOFFSETTO:-0500
TZNAME:EST
DTSTART:20231105T060000
END:STANDARD
END:VTIMEZONE
BEGIN:VEVENT
DTSTART;VALUE=DATE:20220805
DTEND;VALUE=DATE:20220809
DTSTAMP:20260424T082758
CREATED:20220628T134148Z
LAST-MODIFIED:20220628T134148Z
UID:7813-1659657600-1660003199@www.fairfaxcirclechurch.org
SUMMARY:Lake Retreat
DESCRIPTION:Our annual Lake Retreat is August 5-8! The Lake Retreat is on Lake Gaston in North Carolina at a member’s lake house. The weekend includes water fun (tubing\, swimming\, kayaking\, splash competition\, etc)\, spiritual enrichment (devotionals and quiet times)\, and lots of late food\, games\, and movies.\n\nThis is the first event our upcoming 7th Graders are eligible to attend and the last event our graduating 12th graders attend as students. So\, don’t let your student miss out on the best event of the year! RSVP by July 10. The cost is $35 per student (scholarships available).
URL:https://www.fairfaxcirclechurch.org/event/lake-retreat-2/
ATTACH;FMTTYPE=image/png:https://www.fairfaxcirclechurch.org/wp-content/uploads/2022/04/Lake-Retreat-5.png
ORGANIZER;CN="Lex Moore":MAILTO:lex@fairfaxcirclechurch.org
END:VEVENT
BEGIN:VEVENT
DTSTART;VALUE=DATE:20220722
DTEND;VALUE=DATE:20220724
DTSTAMP:20260424T082758
CREATED:20220628T134018Z
LAST-MODIFIED:20220628T134018Z
UID:7812-1658448000-1658620799@www.fairfaxcirclechurch.org
SUMMARY:All Night Hangout
DESCRIPTION:All Night Hangout is Friday\, July 22. This event will start late in the evening (time and start location TBD soon) and end at 8:00am Saturday morning at Lex‘s home. The evening will include closing down Dave and Buster’s\, a movie\, some junk food\, and other fun hangout activities. This event is a miniature lock-in\, essentially. The cost is $35 per person (scholarships available) and RSVP is due by Sunday\, July 10th.
URL:https://www.fairfaxcirclechurch.org/event/all-night-hangout/
ATTACH;FMTTYPE=image/png:https://www.fairfaxcirclechurch.org/wp-content/uploads/2022/06/All.png
ORGANIZER;CN="Lex Moore":MAILTO:lex@fairfaxcirclechurch.org
END:VEVENT
BEGIN:VEVENT
DTSTART;TZID=America/New_York:20220613T173000
DTEND;TZID=America/New_York:20220617T193000
DTSTAMP:20260424T082758
CREATED:20220331T183829Z
LAST-MODIFIED:20220609T184846Z
UID:7775-1655141400-1655494200@www.fairfaxcirclechurch.org
SUMMARY:Camp Compassion: Animal Edition
DESCRIPTION:Join us the week of June 13th for Camp Compassion/Animal Edition!  This fun filled\, Bible based camp will allow us to understand why God wants us to be compassionate\, as well as how we can be compassionate to our families\, our community and our world! \nCamp will include a track of active global games!  There will also be a craft track which will result in an art sale at the end of camp to raise money for an animal shelter.  Our animal theme will include a wild bird show\, a petting zoo\, a pet blessing and more! \nCost for camp is $15.00. \n  \nFor more information and registration click here!
URL:https://www.fairfaxcirclechurch.org/event/camp-compassion-animal-edition/
LOCATION:Fairfax Circle Church\, 3110 Chichester Ln\, Fairfax\, 22031
ATTACH;FMTTYPE=image/png:https://www.fairfaxcirclechurch.org/wp-content/uploads/2022/03/REGISTRATION-NOW-OPEN-2.png
ORGANIZER;CN="Elise Bell":MAILTO:elise@fairfaxcirclechurch.org
END:VEVENT
BEGIN:VEVENT
DTSTART;TZID=America/New_York:20220514T170000
DTEND;TZID=America/New_York:20220514T190000
DTSTAMP:20260424T082758
CREATED:20220504T165846Z
LAST-MODIFIED:20220504T165846Z
UID:7796-1652547600-1652554800@www.fairfaxcirclechurch.org
SUMMARY:Student Ministry Game Night
DESCRIPTION:Join Student Ministry for Game Night\, Game night  is Sunday\, May 14th from 5:00-7:00pm at the Fairfax Circle Church! \nHave your student bring their favorite board/ card games. And there will\, of course\, be snacks. Can’t wait to see them then!
URL:https://www.fairfaxcirclechurch.org/event/student-ministry-game-night/
LOCATION:Fairfax Circle Church\, 3110 Chichester Ln\, Fairfax\, 22031
ATTACH;FMTTYPE=image/jpeg:https://www.fairfaxcirclechurch.org/wp-content/uploads/2022/05/Sydney-Ministry-Game-Night-.jpg
ORGANIZER;CN="Lex Moore":MAILTO:lex@fairfaxcirclechurch.org
END:VEVENT
BEGIN:VEVENT
DTSTART;TZID=America/New_York:20220417T104500
DTEND;TZID=America/New_York:20220417T114500
DTSTAMP:20260424T082758
CREATED:20220317T170258Z
LAST-MODIFIED:20220323T122342Z
UID:7759-1650192300-1650195900@www.fairfaxcirclechurch.org
SUMMARY:Easter Sunday
DESCRIPTION:Join us for Easter Sunday at Fairfax Circle Baptist Church on April 17 at 10:45am. You can also join us any Sunday leading up to Easter as look at some of the key stories and events surrounding Jesus’ life. View past sermons. \nOur Easter services are free and open to the public.  \nWe have Children’s Ministry for infants to 6th grade during the service. \nVisit us in person:\n3110 Chichester Lane\,\nFairfax\, VA 22031 \nPlan Your Visit \nLivestream Easter Online
URL:https://www.fairfaxcirclechurch.org/event/easter-sunday/
LOCATION:Fairfax Circle Church\, 3110 Chichester Ln\, Fairfax\, 22031
ATTACH;FMTTYPE=image/png:https://www.fairfaxcirclechurch.org/wp-content/uploads/2022/03/Easter-2022-Insta-1.png
END:VEVENT
BEGIN:VEVENT
DTSTART;TZID=America/New_York:20220410T120000
DTEND;TZID=America/New_York:20220410T150000
DTSTAMP:20260424T082758
CREATED:20220329T170921Z
LAST-MODIFIED:20220329T170921Z
UID:7768-1649592000-1649602800@www.fairfaxcirclechurch.org
SUMMARY:Prayer Hike -Student Ministry
DESCRIPTION:Have your student worship and enjoy the outdoors during a prayer hike in April. Right after Sunday morning worship on April 10 we will head to Virginia’s Great Falls for a prayer hike\, scavenger hunt\, and picnic. A prayer hike is the same thing as a prayer walk except it’s out in nature. Your students will be guided with prompts to pray\, meditate\, and reflect on Jesus. Also\, the winner of the scavenger wins a prize. Lastly\, the picnic is BYOLunch. So please send your student with a brown bag lunch. This event is free. Pickup will be at the church at 3:15pm. \n  \nSign Up Here! 
URL:https://www.fairfaxcirclechurch.org/event/prayer-hike-student-ministry/
ATTACH;FMTTYPE=image/png:https://www.fairfaxcirclechurch.org/wp-content/uploads/2022/03/Prayer-Hike-.png
ORGANIZER;CN="Lex Moore":MAILTO:lex@fairfaxcirclechurch.org
END:VEVENT
BEGIN:VEVENT
DTSTART;TZID=America/New_York:20220306T183000
DTEND;TZID=America/New_York:20220306T213000
DTSTAMP:20260424T082758
CREATED:20220217T170837Z
LAST-MODIFIED:20220217T170837Z
UID:7738-1646591400-1646602200@www.fairfaxcirclechurch.org
SUMMARY:The Batman Movie (Student Ministry)
DESCRIPTION:We will be seeing The Batman opening weekend! This is one of the most anticipated movies of 2022. Because of this\, tickets will sellout fast. So\, please RSVP by THIS Sunday\, February 13 and we’ll do our best to secure tickets for the time we’re advertising.\n\nWe anticipate seeing this movie at Cinemark Fairfax Corner on Sunday\, March 6\, at 4:30pm. Cost is $17 per student; bring cash or pay online ahead of time. Pickup and drop-off is at the theater; no carpooling.\n\nThe movie is rated Rated PG-13\, is 2 hours 55 minutes long\, and the theater does not require masks. So please consider if this movie is appropriate for your student before signing up.
URL:https://www.fairfaxcirclechurch.org/event/the-batman-movie-student-ministry/
ATTACH;FMTTYPE=image/png:https://www.fairfaxcirclechurch.org/wp-content/uploads/2022/02/Winter-Meltdown-Insta-1.png
ORGANIZER;CN="Lex Moore":MAILTO:lex@fairfaxcirclechurch.org
END:VEVENT
BEGIN:VEVENT
DTSTART;TZID=America/New_York:20211224T173000
DTEND;TZID=America/New_York:20211224T183000
DTSTAMP:20260424T082758
CREATED:20211209T183002Z
LAST-MODIFIED:20211209T183002Z
UID:7710-1640367000-1640370600@www.fairfaxcirclechurch.org
SUMMARY:Christmas Eve Service
DESCRIPTION:Join us for a special candlelight Christmas Eve service at 5:30 Dec 24th. We have a simple worship service with lots of beautiful Christmas music.
URL:https://www.fairfaxcirclechurch.org/event/christmas-eve-service/
LOCATION:Fairfax Circle Church\, 3110 Chichester Ln\, Fairfax\, 22031
ATTACH;FMTTYPE=image/jpeg:https://www.fairfaxcirclechurch.org/wp-content/uploads/2021/10/CHRISTMAS-EVE.jpg
END:VEVENT
BEGIN:VEVENT
DTSTART;TZID=America/New_York:20211223T190000
DTEND;TZID=America/New_York:20211223T210000
DTSTAMP:20260424T082758
CREATED:20211209T182725Z
LAST-MODIFIED:20211209T182725Z
UID:7709-1640286000-1640293200@www.fairfaxcirclechurch.org
SUMMARY:Living Nativity
DESCRIPTION:Mark your calendars for December 22 and 23 for our Living Nativity. This is a very special evening of worship as we reenact the nativity scene with live animals. This is an outdoor event. There will be crafts for kids\,  and time to take a breath and relax into the season. Join us 7-9 pm on either night and bring your friends!
URL:https://www.fairfaxcirclechurch.org/event/living-nativity/2021-12-23/
LOCATION:Fairfax Circle Church\, 3110 Chichester Ln\, Fairfax\, 22031
ATTACH;FMTTYPE=image/jpeg:https://www.fairfaxcirclechurch.org/wp-content/uploads/2021/10/78202882_10157053094899888_1947237940354613248_n.jpg
END:VEVENT
BEGIN:VEVENT
DTSTART;TZID=America/New_York:20211211T143000
DTEND;TZID=America/New_York:20211211T170000
DTSTAMP:20260424T082758
CREATED:20211209T182511Z
LAST-MODIFIED:20211209T182511Z
UID:7708-1639233000-1639242000@www.fairfaxcirclechurch.org
SUMMARY:Puppy Nativity
DESCRIPTION:Looking for some holiday fun for the whole family … even the dog? Bring your furry friend on over to Fairfax Circle Church on Saturday\, Dec 11\, 2:30pm for a photo opportunity and some treats. We will provide costumes\, both human and canine\, and you are welcome to either take your own photos or we will take them for you. There will be refreshments for the two-legged and four-legged.\n\n\nNote: Please feel welcome to bring your well-socialized dog on a non-retractable leash.
URL:https://www.fairfaxcirclechurch.org/event/puppy-nativity/
LOCATION:Fairfax Circle Church\, 3110 Chichester Ln\, Fairfax\, 22031
ATTACH;FMTTYPE=image/jpeg:https://www.fairfaxcirclechurch.org/wp-content/uploads/2021/10/79885708_10157115357179888_3931746202449608704_n.jpg
END:VEVENT
BEGIN:VEVENT
DTSTART;TZID=America/New_York:20210918T150000
DTEND;TZID=America/New_York:20210918T180000
DTSTAMP:20260424T082759
CREATED:20210810T143201Z
LAST-MODIFIED:20210810T143201Z
UID:7628-1631977200-1631988000@www.fairfaxcirclechurch.org
SUMMARY:Treetop Ropes Course~ Student Ministry
DESCRIPTION:Join us on a treetop ropes course on Saturday\, September 18\, at 3:00pm at South Run RECenter in Springfield\, VA! The cost is $45 per student (as always\, scholarships available). Please RSVP by September 4 and fill out the online waiver. \n \nStudents of all ages\, strengths and athletic ability should be able to complete the course. However\, for the safety of each participant the minimum height is 4 foot 7 inches and the maximum weight is 285lbs. Your student must wear closed-toed\, closed-heeled shoes. They also must bring a mask for non-climbing moments and gloves for the treetop course (any gloves will do: construction\, gardening\, climbing\, weight lifting\, etc.).\n\nRSVP HERE! 
URL:https://www.fairfaxcirclechurch.org/event/treetop-ropes-course-student-ministry/
ATTACH;FMTTYPE=image/png:https://www.fairfaxcirclechurch.org/wp-content/uploads/2021/08/Treetop-Rope-Course-Insta.png
END:VEVENT
BEGIN:VEVENT
DTSTART;TZID=America/New_York:20210821T170000
DTEND;TZID=America/New_York:20210821T183000
DTSTAMP:20260424T082759
CREATED:20210819T151936Z
LAST-MODIFIED:20210819T151936Z
UID:7632-1629565200-1629570600@www.fairfaxcirclechurch.org
SUMMARY:Back to School...FIZZ\, POP\, BOOM!
DESCRIPTION:I am so excited about our Back to School Bash….Fizz\,Pop\,Boom!  It starts at 5:00 on Saturday the 21st. We have some great take home activities for families\, and some fun door prizes!  Here are some things you should know.\n\n\nWe will be outside.\nEvery family will have their own table.\nMasks will be worn\, except when you are at your table.\nWe will have hand sanitizer available.\n\nIt would be very helpful for you to sign up\, so we know the best way to set up!  BRING A FRIEND!
URL:https://www.fairfaxcirclechurch.org/event/back-to-school-fizz-pop-boom/
LOCATION:Fairfax Circle Church\, 3110 Chichester Ln\, Fairfax\, 22031
ATTACH;FMTTYPE=image/jpeg:https://www.fairfaxcirclechurch.org/wp-content/uploads/2021/08/ultimate-100-science-experiments-for-kids.jpg
ORGANIZER;CN="Elise Bell":MAILTO:elise@fairfaxcirclechurch.org
END:VEVENT
BEGIN:VEVENT
DTSTART;TZID=America/New_York:20210810T100000
DTEND;TZID=America/New_York:20210810T140000
DTSTAMP:20260424T082759
CREATED:20210810T141433Z
LAST-MODIFIED:20210810T142542Z
UID:7622-1628589600-1628604000@www.fairfaxcirclechurch.org
SUMMARY:Food Drive
DESCRIPTION:Once a month on the 4th Satuirday from 10am-12pm we will be unpacking large bags of rice and dried beans and repacking them in smaller bags. We will also be sorting fresh produce which will be delivered that week. This is something that all ages from elementary grades up can help with.\n\nWe also need a few volunteers with large vehicles (trucks or trailers) to pick up the beans and rice prior to the 4th Saturday and deliver them to the church.\n\nSign Up Here!
URL:https://www.fairfaxcirclechurch.org/event/food-drive/2021-08-10/
LOCATION:Fairfax Circle Church\, 3110 Chichester Ln\, Fairfax\, 22031
ATTACH;FMTTYPE=image/png:https://www.fairfaxcirclechurch.org/wp-content/uploads/2021/04/Food-Drive-Slide-.png
END:VEVENT
BEGIN:VEVENT
DTSTART;TZID=America/New_York:20210808T173000
DTEND;TZID=America/New_York:20210808T203000
DTSTAMP:20260424T082759
CREATED:20210608T161009Z
LAST-MODIFIED:20210608T161009Z
UID:7577-1628443800-1628454600@www.fairfaxcirclechurch.org
SUMMARY:Top Golf - Student Ministry
DESCRIPTION:Student Ministry is going to Top Golf in Loudon! Join us on August 8th\, 5:45-8pm. Tickets are $40 per person (scholarships available). Appetizers and soda provided. Please RSVP by July 25th. If carpooling\, leaving the church at 5:00pm and returning at 8:30pm. Upcoming 7th Graders Welcome!
URL:https://www.fairfaxcirclechurch.org/event/top-golf-student-ministry/
ATTACH;FMTTYPE=image/jpeg:https://www.fairfaxcirclechurch.org/wp-content/uploads/2021/06/Top-Golf-.jpg
ORGANIZER;CN="Lex Moore":MAILTO:lex@fairfaxcirclechurch.org
END:VEVENT
BEGIN:VEVENT
DTSTART;TZID=America/New_York:20210724T191500
DTEND;TZID=America/New_York:20210724T211500
DTSTAMP:20260424T082759
CREATED:20210713T154038Z
LAST-MODIFIED:20210713T154038Z
UID:7596-1627154100-1627161300@www.fairfaxcirclechurch.org
SUMMARY:Fireside Devotional
DESCRIPTION:What: The event is volleyball\, s’mores\, and a fireside devotional. \n\nWhen/ Where: Saturday\, July 24\, 7:15-9:15pm at the church\n\nWho: College-aged students (including those who are about to head off to college and those who just graduated college). Friends are welcome.
URL:https://www.fairfaxcirclechurch.org/event/fireside-devotional/
LOCATION:Fairfax Circle Church\, 3110 Chichester Ln\, Fairfax\, 22031
ATTACH;FMTTYPE=image/jpeg:https://www.fairfaxcirclechurch.org/wp-content/uploads/2021/07/Fireside-Devotional-Insta-.jpg
ORGANIZER;CN="Lex Moore":MAILTO:lex@fairfaxcirclechurch.org
END:VEVENT
BEGIN:VEVENT
DTSTART;TZID=America/New_York:20210716T080000
DTEND;TZID=America/New_York:20210719T170000
DTSTAMP:20260424T082759
CREATED:20210520T151504Z
LAST-MODIFIED:20210610T164816Z
UID:7560-1626422400-1626714000@www.fairfaxcirclechurch.org
SUMMARY:Lake Retreat
DESCRIPTION:Signup your 10-12th graders for our lake retreat! The lake retreat will be at Lake Gaston in North Carolina\, like normal. However\, we won’t be packing in the lake house like we usually do. There will be a maximum of 14 students\, and 6 adults. Due to the maximum number\, those with the least amount of time left in the student ministry get priority for signing up\, starting with 10th-12th graders. If spots remain available\, eligibility to sign up will roll back a grade or two at a time until all spots are filled. If spots still remain available after inviting all grades (including 6th graders)\, then friends are then eligible to RSVP.\n\nIf your student is currently in 10th grade or above\, you can sign up for the lake retreat starting now. On June 6th\, we will start opening the signups to younger grades.\n\nCost per student is $35. Scholarships are available and kept confidential. Please don’t hesitate to ask for one; we don’t want money to be the reason your student doesn’t attend!\n\nSign Up Here! 
URL:https://www.fairfaxcirclechurch.org/event/lake-retreat/
LOCATION:Lake Gaston\, North Carolina
ATTACH;FMTTYPE=image/png:https://www.fairfaxcirclechurch.org/wp-content/uploads/2021/05/Lake-Retreat-1.png
ORGANIZER;CN="Lex Moore":MAILTO:lex@fairfaxcirclechurch.org
END:VEVENT
BEGIN:VEVENT
DTSTART;TZID=America/New_York:20210625T203000
DTEND;TZID=America/New_York:20210625T220000
DTSTAMP:20260424T082759
CREATED:20210527T183241Z
LAST-MODIFIED:20210601T131351Z
UID:7563-1624653000-1624658400@www.fairfaxcirclechurch.org
SUMMARY:Outdoor Family Movie Night
DESCRIPTION:SAVE THE DATE! Join us for Outdoor Movie Night on Friday\, June 25 at 8:30PM. This will be a church wide outdoor event!\n\nGrab you favorite snacks\, blanket or chair\, and meet us there!\n\nRSVP Here! 
URL:https://www.fairfaxcirclechurch.org/event/outdoor-family-movie-night/
LOCATION:Fairfax Circle Church\, 3110 Chichester Ln\, Fairfax\, 22031
ATTACH;FMTTYPE=image/png:https://www.fairfaxcirclechurch.org/wp-content/uploads/2021/05/Movie-Festival-Colorful-Film-Reel-Instagram-Post.png
ORGANIZER;CN="Elise Bell":MAILTO:elise@fairfaxcirclechurch.org
END:VEVENT
BEGIN:VEVENT
DTSTART;TZID=America/New_York:20210619T163000
DTEND;TZID=America/New_York:20210619T183000
DTSTAMP:20260424T082759
CREATED:20210608T173840Z
LAST-MODIFIED:20210608T173858Z
UID:7580-1624120200-1624127400@www.fairfaxcirclechurch.org
SUMMARY:My Reptile Guy
DESCRIPTION:We are planning our first in what we hope will be a summer series for kids.  We have invited My Reptile Guys to come and do a show for us on June 19th.  We hope this will be the first of three shows\, each with a fun entertainer.  The party starts at 4:45 on the 19th.  It will end at 6:15.  The actual show will start at 5:00 and will last until 6:00.  It includes photo ops with the kids\, socially distanced. \n\nSign Up Here!
URL:https://www.fairfaxcirclechurch.org/event/my-reptile-guy/
LOCATION:Fairfax Circle Church\, 3110 Chichester Ln\, Fairfax\, 22031
ATTACH;FMTTYPE=image/jpeg:https://www.fairfaxcirclechurch.org/wp-content/uploads/2021/06/Reptile-Show.jpg
ORGANIZER;CN="Elise Bell":MAILTO:elise@fairfaxcirclechurch.org
END:VEVENT
BEGIN:VEVENT
DTSTART;TZID=America/New_York:20210619T090000
DTEND;TZID=America/New_York:20210619T120000
DTSTAMP:20260424T082759
CREATED:20210322T163513Z
LAST-MODIFIED:20210810T141043Z
UID:234-1624093200-1624104000@www.fairfaxcirclechurch.org
SUMMARY:Cooking for the Lamb Center
DESCRIPTION:Our church provides a lunch that will feed about a hundred people one Saturday per month for the guests of the Lamb Center. This is usually on the 3rd Saturday of the month but sometimes holidays or events cause us to move our day….
URL:https://www.fairfaxcirclechurch.org/event/cooking-for-the-lamb-center/2021-06-19/
LOCATION:Fairfax Circle Church\, 3110 Chichester Ln\, Fairfax\, 22031
ATTACH;FMTTYPE=image/jpeg:https://www.fairfaxcirclechurch.org/wp-content/uploads/2021/03/img-events-1.jpg
END:VEVENT
BEGIN:VEVENT
DTSTART;TZID=America/New_York:20210612T130000
DTEND;TZID=America/New_York:20210612T160000
DTSTAMP:20260424T082759
CREATED:20210415T175934Z
LAST-MODIFIED:20210520T145605Z
UID:7536-1623502800-1623513600@www.fairfaxcirclechurch.org
SUMMARY:Summer Olympics
DESCRIPTION:Signup your student to participate in our summer olympics on Saturday\, June 12! We’ll divide up into teams to compete in games. There will be water games\, racing\, skills competitions\, and more. Oh\, and you know there will be medals for the winners. RSVP by June 6 so we can divide up our students into teams and let them know which colors to wear. \nSign Up Here! 
URL:https://www.fairfaxcirclechurch.org/event/summerolympics/
LOCATION:Fairfax Circle Church\, 3110 Chichester Ln\, Fairfax\, 22031
ATTACH;FMTTYPE=image/png:https://www.fairfaxcirclechurch.org/wp-content/uploads/2021/04/2-2.png
ORGANIZER;CN="Lex Moore":MAILTO:lex@fairfaxcirclechurch.org
END:VEVENT
END:VCALENDAR